Workbook

Sheet Forecasting
A1: Enter Market Forecast | D1: Market Sales | E1: ='Market Sales'!B1 -> Apr | F1: ='Market Sales'!C1 -> May | G1: ='Market Sales'!D1 -> Jun | H1: ='Market Sales'!E1 -> Jul | I1: ='Market Sales'!F1 -> Aug | J1: ='Market Sales'!G1 -> Sep | K1: ='Market Sales'!H1 -> Oct | L1: ='Market Sales'!I1 -> Nov | ... P1: ='Market Sales'!M1 -> Mar
A2: 0.01 | D2: ='Market Sales'!A2 -> FY18 | E2: ='Market Sales'!B2 -> 2857681.7 | F2: ='Market Sales'!C2 -> 2890200.7 | G2: ='Market Sales'!D2 -> 2828420.9 | H2: ='Market Sales'!E2 -> 2898791.2 | I2: ='Market Sales'!F2 -> 2918850.9 | J2: ='Market Sales'!G2 -> 2908786.7 | K2: ='Market Sales'!H2 -> 2969000.8 | ... P2: ='Market Sales'!M2 -> 2886734
D3: ='Market Sales'!A3 -> FY19 | E3: ='Market Sales'!B3 -> 2886529.5 | F3: ='Market Sales'!C3 -> 2935274.1 | G3: ='Market Sales'!D3 -> 2734745.3 | H3: ='Market Sales'!E3 -> 2989609.4 | I3: ='Market Sales'!F3 -> 2906331.9 | J3: ='Market Sales'!G3 -> 2868557.8 | K3: ='Market Sales'!H3 -> 2966712.4 | ... P3: ='Market Sales'!M3 -> 2786495.7
D4: ='Market Sales'!A4 -> FY20 | E4: ='Market Sales'!B4 -> 2901521.6 | F4: ='Market Sales'!C4 -> 2994075.9 | G4: ='Market Sales'!D4 -> 2820461.3 | H4: ='Market Sales'!E4 -> 3016387.7 | I4: ='Market Sales'!F4 -> 2884303.4 | J4: ='Market Sales'!G4 -> 2954223.8 | K4: ='Market Sales'!H4 -> 3012814.9 | ... P4: ='Market Sales'!M4 -> 2863069.4
D5: ='Market Sales'!A5 -> FY21 | E5: =IF('Market Sales'!B5=0,E4*(1+$A$2),'Market Sales'!B5) -> 2946874.5 | F5: =IF('Market Sales'!C5=0,F4*(1+$A$2),'Market Sales'!C5) -> 2687692.6 | G5: =IF('Market Sales'!D5=0,G4*(1+$A$2),'Market Sales'!D5) -> 2848665.9 | H5: =IF('Market Sales'!E5=0,H4*(1+$A$2),'Market Sales'!E5) -> 3046551.6 | I5: =IF('Market Sales'!F5=0,I4*(1+$A$2),'Market Sales'!F5) -> 2913146.5 | J5: =IF('Market Sales'!G5=0,J4*(1+$A$2),'Market Sales'!G5) -> 2983766.1 | K5: =IF('Market Sales'!H5=0,K4*(1+$A$2),'Market Sales'!H5) -> 3042943.1 | L5: =IF('Market Sales'!I5=0,L4*(1+$A$2),'Market Sales'!I5) -> 2770324.2 | ... P5: =IF('Market Sales'!M5=0,P4*(1+$A$2),'Market Sales'!M5) -> 2891700.1
A8: Enter Well Forecast | D8: Company A Sales | E8: ='Company A Sales'!B1 -> Apr | F8: ='Company A Sales'!C1 -> May | G8: ='Company A Sales'!D1 -> Jun | H8: ='Company A Sales'!E1 -> Jul | I8: ='Company A Sales'!F1 -> Aug | J8: ='Company A Sales'!G1 -> Sep | K8: ='Company A Sales'!H1 -> Oct | L8: ='Company A Sales'!I1 -> Nov | ... P8: ='Company A Sales'!M1 -> Mar
A9: 0.01 | D9: ='Company A Sales'!A2 -> FY18 | E9: ='Company A Sales'!B2 -> 391908.76 | F9: ='Company A Sales'!C2 -> 398334.45 | G9: ='Company A Sales'!D2 -> 389964.09 | H9: ='Company A Sales'!E2 -> 400964.88 | I9: ='Company A Sales'!F2 -> 402044.77 | J9: ='Company A Sales'!G2 -> 397435.16 | K9: ='Company A Sales'!H2 -> 407888.53 | ... P9: ='Company A Sales'!M2 -> 401816.73
D10: ='Company A Sales'!A3 -> FY19 | E10: ='Company A Sales'!B3 -> 395938.6 | F10: ='Company A Sales'!C3 -> 402852.38 | G10: ='Company A Sales'!D3 -> 370126.72 | H10: ='Company A Sales'!E3 -> 408057.57 | I10: ='Company A Sales'!F3 -> 396475.89 | J10: ='Company A Sales'!G3 -> 384811.89 | K10: ='Company A Sales'!H3 -> 399016.15 | ... P10: ='Company A Sales'!M3 -> 370428.53
D11: ='Company A Sales'!A4 -> FY20 | E11: ='Company A Sales'!B4 -> 400657.26 | F11: ='Company A Sales'!C4 -> 385153.1 | G11: ='Company A Sales'!D4 -> 374905.16 | H11: ='Company A Sales'!E4 -> 401220.04 | I11: ='Company A Sales'!F4 -> 384961.98 | J11: ='Company A Sales'!G4 -> 385057.05 | K11: ='Company A Sales'!H4 -> 411875.7 | ... P11: ='Company A Sales'!M4 -> 368484.31
D12: ='Company A Sales'!A5 -> FY21 | E12: =IF('Company A Sales'!B5=0,E11*(1+$A$9),'Company A Sales'!B5) -> 383379.81 | F12: =IF('Company A Sales'!C5=0,F11*(1+$A$9),'Company A Sales'!C5) -> 343329.36 | G12: =IF('Company A Sales'!D5=0,G11*(1+$A$9),'Company A Sales'!D5) -> 378654.21 | H12: =IF('Company A Sales'!E5=0,H11*(1+$A$9),'Company A Sales'!E5) -> 405232.24 | I12: =IF('Company A Sales'!F5=0,I11*(1+$A$9),'Company A Sales'!F5) -> 388811.6 | J12: =IF('Company A Sales'!G5=0,J11*(1+$A$9),'Company A Sales'!G5) -> 388907.62 | K12: =IF('Company A Sales'!H5=0,K11*(1+$A$9),'Company A Sales'!H5) -> 415994.46 | L12: =IF('Company A Sales'!I5=0,L11*(1+$A$9),'Company A Sales'!I5) -> 367427.06 | ... P12: =IF('Company A Sales'!M5=0,P11*(1+$A$9),'Company A Sales'!M5) -> 372169.15
D15: Company A Total Marketshare | E15: =E8 -> Apr | F15: =F8 -> May | G15: =G8 -> Jun | H15: =H8 -> Jul | I15: =I8 -> Aug | J15: =J8 -> Sep | K15: =K8 -> Oct | L15: =L8 -> Nov | ... P15: =P8 -> Mar
D16: FY21 | E16: =E12/E5 -> 0.13009709 | F16: =F12/F5 -> 0.12774131 | G16: =G12/G5 -> 0.13292335 | H16: =H12/H5 -> 0.13301342 | I16: =I12/I5 -> 0.13346792 | J16: =J12/J5 -> 0.13034119 | K16: =K12/K5 -> 0.13670793 | L16: =L12/L5 -> 0.13262963 | ... P16: =P12/P5 -> 0.12870254

Sheet Market Sales
A1: Market Items | B1: Apr | C1: May | D1: Jun | E1: Jul | F1: Aug | G1: Sep | H1: Oct | I1: Nov | J1: Dec | K1: Jan | L1: Feb | M1: Mar | N1: Total
A2: FY18 | B2: 2857681.7 | C2: 2890200.7 | D2: 2828420.9 | E2: 2898791.2 | F2: 2918850.9 | G2: 2908786.7 | H2: 2969000.8 | I2: 2664792.6 | J2: 2932078.4 | K2: 2808839.1 | L2: 2951567.1 | M2: 2886734 | N2: 34515744
A3: FY19 | B3: 2886529.5 | C3: 2935274.1 | D3: 2734745.3 | E3: 2989609.4 | F3: 2906331.9 | G3: 2868557.8 | H3: 2966712.4 | I3: 2674685.7 | J3: 2872566.9 | K3: 2831937.8 | L3: 3002509.9 | M3: 2786495.7 | N3: 34455956
A4: FY20 | B4: 2901521.6 | C4: 2994075.9 | D4: 2820461.3 | E4: 3016387.7 | F4: 2884303.4 | G4: 2954223.8 | H4: 3012814.9 | I4: 2742895.2 | J4: 3162605.3 | K4: 2924921.2 | L4: 2765742.7 | M4: 2863069.4 | N4: 35043023
A5: FY21 | B5: 2946874.5 | C5: 2687692.6 | D5: 0 | E5: 0 | F5: 0 | G5: 0 | H5: 0 | I5: 0 | J5: 0 | K5: 0 | L5: 0 | M5: 0 | N5: 0

Sheet Company A Sales
A1: Well Items | B1: Apr | C1: May | D1: Jun | E1: Jul | F1: Aug | G1: Sep | H1: Oct | I1: Nov | J1: Dec | K1: Jan | L1: Feb | M1: Mar | N1: Total
A2: FY18 | B2: 391908.76 | C2: 398334.45 | D2: 389964.09 | E2: 400964.88 | F2: 402044.77 | G2: 397435.16 | H2: 407888.53 | I2: 363461.49 | J2: 400677.9 | K2: 381682.65 | L2: 402932.03 | M2: 401816.73 | N2: 4739111.4
A3: FY19 | B3: 395938.6 | C3: 402852.38 | D3: 370126.72 | E3: 408057.57 | F3: 396475.89 | G3: 384811.89 | H3: 399016.15 | I3: 358421.74 | J3: 386824.19 | K3: 380352.05 | L3: 407123 | M3: 370428.53 | N3: 4660428.7
A4: FY20 | B4: 400657.26 | C4: 385153.1 | D4: 374905.16 | E4: 401220.04 | F4: 384961.98 | G4: 385057.05 | H4: 411875.7 | I4: 363789.17 | J4: 403970.56 | K4: 395312.5 | L4: 356410.81 | M4: 368484.31 | N4: 4631797.6
A5: FY21 | B5: 383379.81 | C5: 343329.36 | D5: 0 | E5: 0 | F5: 0 | G5: 0 | H5: 0 | I5: 0 | J5: 0 | K5: 0 | L5: 0 | M5: 0 | N5: 0
